BEGIN:VCALENDAR
VERSION:2.0
PRODID:-//ASV-FFM.de - ECPv6.15.20//NONSGML v1.0//EN
CALSCALE:GREGORIAN
METHOD:PUBLISH
X-WR-CALNAME:ASV-FFM.de
X-ORIGINAL-URL:https://asv-ffm.de
X-WR-CALDESC:Veranstaltungen für ASV-FFM.de
REFRESH-INTERVAL;VALUE=DURATION:PT1H
X-Robots-Tag:noindex
X-PUBLISHED-TTL:PT1H
BEGIN:VTIMEZONE
TZID:Europe/Berlin
BEGIN:DAYLIGHT
TZOFFSETFROM:+0100
TZOFFSETTO:+0200
TZNAME:CEST
DTSTART:20250330T010000
END:DAYLIGHT
BEGIN:STANDARD
TZOFFSETFROM:+0200
TZOFFSETTO:+0100
TZNAME:CET
DTSTART:20251026T010000
END:STANDARD
BEGIN:DAYLIGHT
TZOFFSETFROM:+0100
TZOFFSETTO:+0200
TZNAME:CEST
DTSTART:20260329T010000
END:DAYLIGHT
BEGIN:STANDARD
TZOFFSETFROM:+0200
TZOFFSETTO:+0100
TZNAME:CET
DTSTART:20261025T010000
END:STANDARD
BEGIN:DAYLIGHT
TZOFFSETFROM:+0100
TZOFFSETTO:+0200
TZNAME:CEST
DTSTART:20270328T010000
END:DAYLIGHT
BEGIN:STANDARD
TZOFFSETFROM:+0200
TZOFFSETTO:+0100
TZNAME:CET
DTSTART:20271031T010000
END:STANDARD
BEGIN:DAYLIGHT
TZOFFSETFROM:+0100
TZOFFSETTO:+0200
TZNAME:CEST
DTSTART:20280326T010000
END:DAYLIGHT
BEGIN:STANDARD
TZOFFSETFROM:+0200
TZOFFSETTO:+0100
TZNAME:CET
DTSTART:20281029T010000
END:STANDARD
END:VTIMEZONE
BEGIN:VEVENT
DTSTART;TZID=Europe/Berlin:20260426T100000
DTEND;TZID=Europe/Berlin:20260426T140000
DTSTAMP:20260419T180114
CREATED:20260121T060851Z
LAST-MODIFIED:20260121T060851Z
UID:563-1777197600-1777212000@asv-ffm.de
SUMMARY:Jahreshauptversammlung
DESCRIPTION:Rodenbach Halle \nNiederrodenbach
URL:https://asv-ffm.de/event/jahreshauptversammlung-2/
LOCATION:Hessen
CATEGORIES:Versammlung
ATTACH;FMTTYPE=image/png:https://asv-ffm.de/wp-content/uploads/2026/01/Versammlung-e1767607920251.png
END:VEVENT
BEGIN:VEVENT
DTSTART;TZID=Europe/Berlin:20260509T090000
DTEND;TZID=Europe/Berlin:20260509T150000
DTSTAMP:20260419T180114
CREATED:20260105T095029Z
LAST-MODIFIED:20260105T210330Z
UID:531-1778317200-1778338800@asv-ffm.de
SUMMARY:Arbeitsdienst
DESCRIPTION:Anmeldung über info@asv-ffm.de und dem Betreff: Arbeitsdienst
URL:https://asv-ffm.de/event/arbeitsdienst-7/
LOCATION:Nolte Seen\, Am Weiher\, Langenselbold\, Hessen\, 63505\, Germany
CATEGORIES:Arbeitsdienst
ATTACH;FMTTYPE=image/png:https://asv-ffm.de/wp-content/uploads/2026/01/Arbeitsdienst-e1767646364479.png
END:VEVENT
BEGIN:VEVENT
DTSTART;TZID=Europe/Berlin:20260522T160000
DTEND;TZID=Europe/Berlin:20260524T120000
DTSTAMP:20260419T180114
CREATED:20260105T091755Z
LAST-MODIFIED:20260105T205642Z
UID:493-1779465600-1779624000@asv-ffm.de
SUMMARY:Jugend: Pfingstlager
DESCRIPTION:
URL:https://asv-ffm.de/event/jugend-pfingstlager/
LOCATION:Nolte Seen\, Am Weiher\, Langenselbold\, Hessen\, 63505\, Germany
CATEGORIES:Angeln
ATTACH;FMTTYPE=image/png:https://asv-ffm.de/wp-content/uploads/2026/01/Judgendangeln-e1767646400565.png
END:VEVENT
BEGIN:VEVENT
DTSTART;TZID=Europe/Berlin:20260613T090000
DTEND;TZID=Europe/Berlin:20260613T150000
DTSTAMP:20260419T180114
CREATED:20260105T095224Z
LAST-MODIFIED:20260105T210306Z
UID:533-1781341200-1781362800@asv-ffm.de
SUMMARY:Arbeitsdienst
DESCRIPTION:Anmeldung über info@asv-ffm.de und dem Betreff: Arbeitsdienst
URL:https://asv-ffm.de/event/arbeitsdienst-8/
LOCATION:Nolte Seen\, Am Weiher\, Langenselbold\, Hessen\, 63505\, Germany
CATEGORIES:Arbeitsdienst
ATTACH;FMTTYPE=image/png:https://asv-ffm.de/wp-content/uploads/2026/01/Arbeitsdienst-e1767646364479.png
END:VEVENT
BEGIN:VEVENT
DTSTART;TZID=Europe/Berlin:20260621T080000
DTEND;TZID=Europe/Berlin:20260621T150000
DTSTAMP:20260419T180114
CREATED:20260105T091836Z
LAST-MODIFIED:20260105T205617Z
UID:495-1782028800-1782054000@asv-ffm.de
SUMMARY:Gemeinschaftsangeln
DESCRIPTION:Anmeldung über info@asv-ffm.de und dem Betreff: Anmeldung Angelveranstaltung.
URL:https://asv-ffm.de/event/gemeinschaftsangeln-2/
LOCATION:Nolte Seen\, Am Weiher\, Langenselbold\, Hessen\, 63505\, Germany
CATEGORIES:Angeln
ATTACH;FMTTYPE=image/png:https://asv-ffm.de/wp-content/uploads/2026/01/Gemeinschaftsangeln-e1767646439128.png
END:VEVENT
BEGIN:VEVENT
DTSTART;TZID=Europe/Berlin:20260627T170000
DTEND;TZID=Europe/Berlin:20260627T230000
DTSTAMP:20260419T180114
CREATED:20260105T091939Z
LAST-MODIFIED:20260105T100554Z
UID:497-1782579600-1782601200@asv-ffm.de
SUMMARY:Bunter Abend
DESCRIPTION:Essen\, Trinken\, gemütliches Beisammensein
URL:https://asv-ffm.de/event/bunter-abend/
LOCATION:Vereinsheim
CATEGORIES:Veranstaltung
ATTACH;FMTTYPE=image/png:https://asv-ffm.de/wp-content/uploads/2026/01/Veranstaltung-e1767606993620.png
END:VEVENT
BEGIN:VEVENT
DTSTART;TZID=Europe/Berlin:20260711T090000
DTEND;TZID=Europe/Berlin:20260711T150000
DTSTAMP:20260419T180114
CREATED:20260105T095300Z
LAST-MODIFIED:20260105T210240Z
UID:535-1783760400-1783782000@asv-ffm.de
SUMMARY:Arbeitsdienst
DESCRIPTION:Anmeldung über info@asv-ffm.de und dem Betreff: Arbeitsdienst
URL:https://asv-ffm.de/event/arbeitsdienst-9/
LOCATION:Nolte Seen\, Am Weiher\, Langenselbold\, Hessen\, 63505\, Germany
CATEGORIES:Arbeitsdienst
ATTACH;FMTTYPE=image/png:https://asv-ffm.de/wp-content/uploads/2026/01/Arbeitsdienst-e1767646364479.png
END:VEVENT
BEGIN:VEVENT
DTSTART;TZID=Europe/Berlin:20260725T170000
DTEND;TZID=Europe/Berlin:20260725T230000
DTSTAMP:20260419T180114
CREATED:20260105T092026Z
LAST-MODIFIED:20260105T100531Z
UID:499-1784998800-1785020400@asv-ffm.de
SUMMARY:Bunter Abend
DESCRIPTION:Essen\, Trinken\, gemütliches Beisammensein
URL:https://asv-ffm.de/event/bunter-abend-2/
LOCATION:Vereinsheim
CATEGORIES:Veranstaltung
ATTACH;FMTTYPE=image/png:https://asv-ffm.de/wp-content/uploads/2026/01/Veranstaltung-e1767606993620.png
END:VEVENT
BEGIN:VEVENT
DTSTART;TZID=Europe/Berlin:20260808T090000
DTEND;TZID=Europe/Berlin:20260808T150000
DTSTAMP:20260419T180114
CREATED:20260105T095339Z
LAST-MODIFIED:20260105T210210Z
UID:537-1786179600-1786201200@asv-ffm.de
SUMMARY:Arbeitsdienst
DESCRIPTION:Anmeldung über info@asv-ffm.de und dem Betreff: Arbeitsdienst
URL:https://asv-ffm.de/event/arbeitsdienst-10/
LOCATION:Nolte Seen\, Am Weiher\, Langenselbold\, Hessen\, 63505\, Germany
CATEGORIES:Arbeitsdienst
ATTACH;FMTTYPE=image/png:https://asv-ffm.de/wp-content/uploads/2026/01/Arbeitsdienst-e1767646364479.png
END:VEVENT
BEGIN:VEVENT
DTSTART;TZID=Europe/Berlin:20260821T080000
DTEND;TZID=Europe/Berlin:20260823T170000
DTSTAMP:20260419T180114
CREATED:20260217T085852Z
LAST-MODIFIED:20260217T085852Z
UID:570-1787299200-1787504400@asv-ffm.de
SUMMARY:Jugend: Sommercamp
DESCRIPTION:Großer See
URL:https://asv-ffm.de/event/jugend-sommercamp/
LOCATION:Nolte Seen\, Am Weiher\, Langenselbold\, Hessen\, 63505\, Germany
CATEGORIES:Angeln
ATTACH;FMTTYPE=image/png:https://asv-ffm.de/wp-content/uploads/2026/01/Judgendangeln-e1767646400565.png
END:VEVENT
BEGIN:VEVENT
DTSTART;TZID=Europe/Berlin:20260829T170000
DTEND;TZID=Europe/Berlin:20260829T230000
DTSTAMP:20260419T180114
CREATED:20260105T092107Z
LAST-MODIFIED:20260105T100508Z
UID:501-1788022800-1788044400@asv-ffm.de
SUMMARY:Bunter Abend
DESCRIPTION:Essen\, Trinken\, gemütliches Beisammensein
URL:https://asv-ffm.de/event/bunter-abend-3/
LOCATION:Vereinsheim
CATEGORIES:Veranstaltung
ATTACH;FMTTYPE=image/png:https://asv-ffm.de/wp-content/uploads/2026/01/Veranstaltung-e1767606993620.png
END:VEVENT
BEGIN:VEVENT
DTSTART;TZID=Europe/Berlin:20260912T090000
DTEND;TZID=Europe/Berlin:20260912T150000
DTSTAMP:20260419T180114
CREATED:20260105T095414Z
LAST-MODIFIED:20260105T210145Z
UID:539-1789203600-1789225200@asv-ffm.de
SUMMARY:Arbeitsdienst
DESCRIPTION:Anmeldung über info@asv-ffm.de und dem Betreff: Arbeitsdienst
URL:https://asv-ffm.de/event/arbeitsdienst-11/
LOCATION:Nolte Seen\, Am Weiher\, Langenselbold\, Hessen\, 63505\, Germany
CATEGORIES:Arbeitsdienst
ATTACH;FMTTYPE=image/png:https://asv-ffm.de/wp-content/uploads/2026/01/Arbeitsdienst-e1767646364479.png
END:VEVENT
BEGIN:VEVENT
DTSTART;TZID=Europe/Berlin:20260918T170000
DTEND;TZID=Europe/Berlin:20260920T140000
DTSTAMP:20260419T180114
CREATED:20260105T092157Z
LAST-MODIFIED:20260105T205548Z
UID:503-1789750800-1789912800@asv-ffm.de
SUMMARY:Karpfen-Cup
DESCRIPTION:Anmeldung über info@asv-ffm.de und dem Betreff: Anmeldung Angelveranstaltung.
URL:https://asv-ffm.de/event/karpfen-cup/
LOCATION:Nolte Seen\, Am Weiher\, Langenselbold\, Hessen\, 63505\, Germany
CATEGORIES:Angeln
ATTACH;FMTTYPE=image/png:https://asv-ffm.de/wp-content/uploads/2026/01/Gemeinschaftsangeln-e1767646439128.png
END:VEVENT
BEGIN:VEVENT
DTSTART;TZID=Europe/Berlin:20261010T090000
DTEND;TZID=Europe/Berlin:20261010T150000
DTSTAMP:20260419T180114
CREATED:20260105T095449Z
LAST-MODIFIED:20260105T210121Z
UID:541-1791622800-1791644400@asv-ffm.de
SUMMARY:Arbeitsdienst
DESCRIPTION:Anmeldung über info@asv-ffm.de und dem Betreff: Arbeitsdienst
URL:https://asv-ffm.de/event/arbeitsdienst-12/
LOCATION:Nolte Seen\, Am Weiher\, Langenselbold\, Hessen\, 63505\, Germany
CATEGORIES:Arbeitsdienst
ATTACH;FMTTYPE=image/png:https://asv-ffm.de/wp-content/uploads/2026/01/Arbeitsdienst-e1767646364479.png
END:VEVENT
BEGIN:VEVENT
DTSTART;TZID=Europe/Berlin:20261017T170000
DTEND;TZID=Europe/Berlin:20261017T230000
DTSTAMP:20260419T180114
CREATED:20260105T092239Z
LAST-MODIFIED:20260105T095916Z
UID:505-1792256400-1792278000@asv-ffm.de
SUMMARY:Oktoberfest
DESCRIPTION:
URL:https://asv-ffm.de/event/oktoberfest/
LOCATION:Vereinsheim
CATEGORIES:Veranstaltung
ATTACH;FMTTYPE=image/png:https://asv-ffm.de/wp-content/uploads/2026/01/Veranstaltung-e1767606993620.png
END:VEVENT
BEGIN:VEVENT
DTSTART;TZID=Europe/Berlin:20261114T090000
DTEND;TZID=Europe/Berlin:20261114T150000
DTSTAMP:20260419T180114
CREATED:20260105T095523Z
LAST-MODIFIED:20260105T210036Z
UID:543-1794646800-1794668400@asv-ffm.de
SUMMARY:Arbeitsdienst
DESCRIPTION:Anmeldung über info@asv-ffm.de und dem Betreff: Arbeitsdienst
URL:https://asv-ffm.de/event/arbeitsdienst-13/
LOCATION:Nolte Seen\, Am Weiher\, Langenselbold\, Hessen\, 63505\, Germany
CATEGORIES:Arbeitsdienst
ATTACH;FMTTYPE=image/png:https://asv-ffm.de/wp-content/uploads/2026/01/Arbeitsdienst-e1767646364479.png
END:VEVENT
BEGIN:VEVENT
DTSTART;TZID=Europe/Berlin:20261121T090000
DTEND;TZID=Europe/Berlin:20261121T150000
DTSTAMP:20260419T180114
CREATED:20260105T092322Z
LAST-MODIFIED:20260105T205515Z
UID:507-1795251600-1795273200@asv-ffm.de
SUMMARY:Jugend: Raubfisch-Cup
DESCRIPTION:
URL:https://asv-ffm.de/event/jugend-raubfisch-cup/
LOCATION:Nolte Seen\, Am Weiher\, Langenselbold\, Hessen\, 63505\, Germany
CATEGORIES:Angeln
ATTACH;FMTTYPE=image/png:https://asv-ffm.de/wp-content/uploads/2026/01/Judgendangeln-e1767646400565.png
END:VEVENT
BEGIN:VEVENT
DTSTART;TZID=Europe/Berlin:20261122T090000
DTEND;TZID=Europe/Berlin:20261122T150000
DTSTAMP:20260419T180114
CREATED:20260105T092412Z
LAST-MODIFIED:20260105T205453Z
UID:509-1795338000-1795359600@asv-ffm.de
SUMMARY:Senioren: Raubfisch-Cup
DESCRIPTION:Anmeldung über info@asv-ffm.de und dem Betreff: Anmeldung Angelveranstaltung.
URL:https://asv-ffm.de/event/senioren-raubfisch-cup/
LOCATION:Nolte Seen\, Am Weiher\, Langenselbold\, Hessen\, 63505\, Germany
CATEGORIES:Angeln
ATTACH;FMTTYPE=image/png:https://asv-ffm.de/wp-content/uploads/2026/01/Gemeinschaftsangeln-e1767646439128.png
END:VEVENT
BEGIN:VEVENT
DTSTART;TZID=Europe/Berlin:20261231T190000
DTEND;TZID=Europe/Berlin:20270101T030000
DTSTAMP:20260419T180114
CREATED:20260105T092457Z
LAST-MODIFIED:20260105T095858Z
UID:511-1798743600-1798772400@asv-ffm.de
SUMMARY:Silvester-Party
DESCRIPTION:
URL:https://asv-ffm.de/event/silvester-party/
LOCATION:Vereinsheim
CATEGORIES:Veranstaltung
ATTACH;FMTTYPE=image/png:https://asv-ffm.de/wp-content/uploads/2026/01/Veranstaltung-e1767606993620.png
END:VEVENT
BEGIN:VEVENT
DTSTART;TZID=Europe/Berlin:20270103T090000
DTEND;TZID=Europe/Berlin:20270103T140000
DTSTAMP:20260419T180114
CREATED:20260105T092545Z
LAST-MODIFIED:20260217T090019Z
UID:513-1798966800-1798984800@asv-ffm.de
SUMMARY:Kartentausch
DESCRIPTION:
URL:https://asv-ffm.de/event/kartentausch-3/
LOCATION:Vereinsheim
CATEGORIES:Kartentausch
ATTACH;FMTTYPE=image/png:https://asv-ffm.de/wp-content/uploads/2026/01/Kartentausch-e1767647420224.png
END:VEVENT
BEGIN:VEVENT
DTSTART;TZID=Europe/Berlin:20270124T090000
DTEND;TZID=Europe/Berlin:20270124T140000
DTSTAMP:20260419T180114
CREATED:20260105T092618Z
LAST-MODIFIED:20260217T090043Z
UID:515-1800781200-1800799200@asv-ffm.de
SUMMARY:Kartentausch
DESCRIPTION:
URL:https://asv-ffm.de/event/kartentausch-4/
LOCATION:Vereinsheim
CATEGORIES:Kartentausch
ATTACH;FMTTYPE=image/png:https://asv-ffm.de/wp-content/uploads/2026/01/Kartentausch-e1767647420224.png
END:VEVENT
END:VCALENDAR