BEGIN:VCALENDAR
VERSION:2.0
PRODID:-//ASV-FFM.de - ECPv6.15.20//NONSGML v1.0//EN
CALSCALE:GREGORIAN
METHOD:PUBLISH
X-WR-CALNAME:ASV-FFM.de
X-ORIGINAL-URL:https://asv-ffm.de
X-WR-CALDESC:Veranstaltungen für ASV-FFM.de
REFRESH-INTERVAL;VALUE=DURATION:PT1H
X-Robots-Tag:noindex
X-PUBLISHED-TTL:PT1H
BEGIN:VTIMEZONE
TZID:Europe/Berlin
BEGIN:DAYLIGHT
TZOFFSETFROM:+0100
TZOFFSETTO:+0200
TZNAME:CEST
DTSTART:20240331T010000
END:DAYLIGHT
BEGIN:STANDARD
TZOFFSETFROM:+0200
TZOFFSETTO:+0100
TZNAME:CET
DTSTART:20241027T010000
END:STANDARD
BEGIN:DAYLIGHT
TZOFFSETFROM:+0100
TZOFFSETTO:+0200
TZNAME:CEST
DTSTART:20250330T010000
END:DAYLIGHT
BEGIN:STANDARD
TZOFFSETFROM:+0200
TZOFFSETTO:+0100
TZNAME:CET
DTSTART:20251026T010000
END:STANDARD
BEGIN:DAYLIGHT
TZOFFSETFROM:+0100
TZOFFSETTO:+0200
TZNAME:CEST
DTSTART:20260329T010000
END:DAYLIGHT
BEGIN:STANDARD
TZOFFSETFROM:+0200
TZOFFSETTO:+0100
TZNAME:CET
DTSTART:20261025T010000
END:STANDARD
END:VTIMEZONE
BEGIN:VEVENT
DTSTART;TZID=Europe/Berlin:20251108T080000
DTEND;TZID=Europe/Berlin:20251108T150000
DTSTAMP:20260423T140509
CREATED:20251024T152156Z
LAST-MODIFIED:20260105T210014Z
UID:438-1762588800-1762614000@asv-ffm.de
SUMMARY:Sonderarbeitsdienst
DESCRIPTION:Baumfäll- und Baumsicherungsaktion
URL:https://asv-ffm.de/event/sonderarbeitsdienst/
LOCATION:Nolte Seen\, Am Weiher\, Langenselbold\, Hessen\, 63505\, Germany
CATEGORIES:Arbeitsdienst
END:VEVENT
BEGIN:VEVENT
DTSTART;TZID=Europe/Berlin:20251115T080000
DTEND;TZID=Europe/Berlin:20251115T150000
DTSTAMP:20260423T140509
CREATED:20250914T114043Z
LAST-MODIFIED:20260105T210014Z
UID:193-1763193600-1763218800@asv-ffm.de
SUMMARY:Arbeitsdienst
DESCRIPTION:
URL:https://asv-ffm.de/event/arbeitsdienst-4/
LOCATION:Hessen
CATEGORIES:Arbeitsdienst
END:VEVENT
BEGIN:VEVENT
DTSTART;TZID=Europe/Berlin:20251122T083000
DTEND;TZID=Europe/Berlin:20251122T143000
DTSTAMP:20260423T140509
CREATED:20251019T151545Z
LAST-MODIFIED:20251022T111902Z
UID:403-1763800200-1763821800@asv-ffm.de
SUMMARY:Jugendangeln (Forellen)
DESCRIPTION:Kleiner Noltesee\nEs werden Forellen und Lachsforellen gesetzt.\nKinder zahlen 5 Euro\, Erwachsene 10 Euro.\nIm Preis ist das Mittagessen (Burger&Pommes) inklusive.\nGetränke werden separat gezahlt. \n5 Forellen pro Angeler dürfen gefangen werden.
URL:https://asv-ffm.de/event/jugendangeln/
LOCATION:Nolte Seen\, Am Weiher\, Langenselbold\, Hessen\, 63505\, Germany
CATEGORIES:Angeln
END:VEVENT
BEGIN:VEVENT
DTSTART;TZID=Europe/Berlin:20251123T090000
DTEND;TZID=Europe/Berlin:20251123T150000
DTSTAMP:20260423T140509
CREATED:20250914T114127Z
LAST-MODIFIED:20250914T114127Z
UID:195-1763888400-1763910000@asv-ffm.de
SUMMARY:Raubfischangeln
DESCRIPTION:
URL:https://asv-ffm.de/event/raubfischangeln/
LOCATION:Nolte Seen\, Am Weiher\, Langenselbold\, Hessen\, 63505\, Germany
CATEGORIES:Angeln
END:VEVENT
BEGIN:VEVENT
DTSTART;TZID=Europe/Berlin:20251129T160000
DTEND;TZID=Europe/Berlin:20251129T235900
DTSTAMP:20260423T140509
CREATED:20250914T114232Z
LAST-MODIFIED:20250914T114232Z
UID:197-1764432000-1764460740@asv-ffm.de
SUMMARY:Jahresabschluss-Feier
DESCRIPTION:Vereinsheim
URL:https://asv-ffm.de/event/jahresabschluss-feier/
LOCATION:Hessen
CATEGORIES:Veranstaltung
END:VEVENT
END:VCALENDAR