BEGIN:VCALENDAR
VERSION:2.0
PRODID:-//ASV-FFM.de - ECPv6.15.20//NONSGML v1.0//EN
CALSCALE:GREGORIAN
METHOD:PUBLISH
X-ORIGINAL-URL:https://asv-ffm.de
X-WR-CALDESC:Veranstaltungen für ASV-FFM.de
REFRESH-INTERVAL;VALUE=DURATION:PT1H
X-Robots-Tag:noindex
X-PUBLISHED-TTL:PT1H
BEGIN:VTIMEZONE
TZID:Europe/Berlin
BEGIN:DAYLIGHT
TZOFFSETFROM:+0100
TZOFFSETTO:+0200
TZNAME:CEST
DTSTART:20250330T010000
END:DAYLIGHT
BEGIN:STANDARD
TZOFFSETFROM:+0200
TZOFFSETTO:+0100
TZNAME:CET
DTSTART:20251026T010000
END:STANDARD
BEGIN:DAYLIGHT
TZOFFSETFROM:+0100
TZOFFSETTO:+0200
TZNAME:CEST
DTSTART:20260329T010000
END:DAYLIGHT
BEGIN:STANDARD
TZOFFSETFROM:+0200
TZOFFSETTO:+0100
TZNAME:CET
DTSTART:20261025T010000
END:STANDARD
BEGIN:DAYLIGHT
TZOFFSETFROM:+0100
TZOFFSETTO:+0200
TZNAME:CEST
DTSTART:20270328T010000
END:DAYLIGHT
BEGIN:STANDARD
TZOFFSETFROM:+0200
TZOFFSETTO:+0100
TZNAME:CET
DTSTART:20271031T010000
END:STANDARD
END:VTIMEZONE
BEGIN:VEVENT
DTSTART;TZID=Europe/Berlin:20260613T090000
DTEND;TZID=Europe/Berlin:20260613T150000
DTSTAMP:20260419T233908
CREATED:20260105T095224Z
LAST-MODIFIED:20260105T210306Z
UID:533-1781341200-1781362800@asv-ffm.de
SUMMARY:Arbeitsdienst
DESCRIPTION:Anmeldung über info@asv-ffm.de und dem Betreff: Arbeitsdienst
URL:https://asv-ffm.de/event/arbeitsdienst-8/
LOCATION:Nolte Seen\, Am Weiher\, Langenselbold\, Hessen\, 63505\, Germany
CATEGORIES:Arbeitsdienst
ATTACH;FMTTYPE=image/png:https://asv-ffm.de/wp-content/uploads/2026/01/Arbeitsdienst-e1767646364479.png
END:VEVENT
BEGIN:VEVENT
DTSTART;TZID=Europe/Berlin:20260621T080000
DTEND;TZID=Europe/Berlin:20260621T150000
DTSTAMP:20260419T233908
CREATED:20260105T091836Z
LAST-MODIFIED:20260105T205617Z
UID:495-1782028800-1782054000@asv-ffm.de
SUMMARY:Gemeinschaftsangeln
DESCRIPTION:Anmeldung über info@asv-ffm.de und dem Betreff: Anmeldung Angelveranstaltung.
URL:https://asv-ffm.de/event/gemeinschaftsangeln-2/
LOCATION:Nolte Seen\, Am Weiher\, Langenselbold\, Hessen\, 63505\, Germany
CATEGORIES:Angeln
ATTACH;FMTTYPE=image/png:https://asv-ffm.de/wp-content/uploads/2026/01/Gemeinschaftsangeln-e1767646439128.png
END:VEVENT
BEGIN:VEVENT
DTSTART;TZID=Europe/Berlin:20260627T170000
DTEND;TZID=Europe/Berlin:20260627T230000
DTSTAMP:20260419T233908
CREATED:20260105T091939Z
LAST-MODIFIED:20260105T100554Z
UID:497-1782579600-1782601200@asv-ffm.de
SUMMARY:Bunter Abend
DESCRIPTION:Essen\, Trinken\, gemütliches Beisammensein
URL:https://asv-ffm.de/event/bunter-abend/
LOCATION:Vereinsheim
CATEGORIES:Veranstaltung
ATTACH;FMTTYPE=image/png:https://asv-ffm.de/wp-content/uploads/2026/01/Veranstaltung-e1767606993620.png
END:VEVENT
END:VCALENDAR